BEGIN:VCALENDAR
VERSION:2.0
PRODID:spatie/icalendar-generator
DESCRIPTION:Events from Radio MSK 1530AM
X-WR-CALDESC:Events from Radio MSK 1530AM
REFRESH-INTERVAL;VALUE=DURATION:PT1440M
X-PUBLISHED-TTL:PT1440M
BEGIN:VTIMEZONE
TZID:Asia/Jakarta
BEGIN:STANDARD
DTSTART:20250807T100000Z
TZOFFSETFROM:+0700
TZOFFSETTO:+0700
END:STANDARD
END:VTIMEZONE
BEGIN:VTIMEZONE
TZID:UTC
BEGIN:STANDARD
DTSTART:20250723T120618Z
TZOFFSETFROM:+0000
TZOFFSETTO:+0000
END:STANDARD
END:VTIMEZONE
BEGIN:VEVENT
UID:2179-14
DTSTAMP:20260419T120618Z
SUMMARY:Kajian Akhlaq 1
LOCATION:
ORGANIZER;CN=admin:MAILTO:admin@radiomsk1530am.com
RRULE:FREQ=MONTHLY;BYDAY=1MO;UNTIL=20261130T000000Z
DTSTART;TZID=Asia/Jakarta:20260504T100000
DTEND;TZID=Asia/Jakarta:20260504T110000
X-ALT-DESC;FMTTYPE=TEXT/HTML:
CATEGORIES:Benerin Bacaan Quran
URL;VALUE=URI:https://radiomsk1530am.com/index.php/mc-events/kajian-akhlaq-
 1/?mc_id=2179
METHOD:PUBLISH
END:VEVENT
END:VCALENDAR